BEGIN:VCALENDAR
VERSION:2.0
PRODID:-//Solveda Company - ECPv6.2.9//NONSGML v1.0//EN
CALSCALE:GREGORIAN
METHOD:PUBLISH
X-ORIGINAL-URL:https://solveda.net
X-WR-CALDESC:Events for Solveda Company
REFRESH-INTERVAL;VALUE=DURATION:PT1H
X-Robots-Tag:noindex
X-PUBLISHED-TTL:PT1H
BEGIN:VTIMEZONE
TZID:Europe/Helsinki
BEGIN:DAYLIGHT
TZOFFSETFROM:+0200
TZOFFSETTO:+0300
TZNAME:EEST
DTSTART:20230326T010000
END:DAYLIGHT
BEGIN:STANDARD
TZOFFSETFROM:+0300
TZOFFSETTO:+0200
TZNAME:EET
DTSTART:20231029T010000
END:STANDARD
END:VTIMEZONE
BEGIN:VEVENT
DTSTART;TZID=Europe/Helsinki:20231120T080000
DTEND;TZID=Europe/Helsinki:20231123T170000
DTSTAMP:20260419T233708
CREATED:20250628T230326Z
LAST-MODIFIED:20250628T230353Z
UID:10000002-1700467200-1700758800@solveda.net
SUMMARY:VIV MEA 2023
DESCRIPTION:With around 500 exhibiting companies from more than 40 countries\, 17\,500 sqm gross and 10\,000 visitors\, VIV MEA is the leading animal husbandry show in the Middle East. In a relatively short period of time VIV MEA has proven to be a successful event\, being able to gather local as well as international industry leaders and professionals. VIV MEA focusses on bringing together supplier and buyers from Feed to Food under one roof. This includes feed (ingredients) and animal health\, animal husbandry\, equipment for breeding\, farming\, slaughtering\, processing and much more
URL:https://solveda.net/event/viv-mea-2023
LOCATION:Abu Dhabi\, United Arab Emirates
GEO:23.424076;53.847818
END:VEVENT
END:VCALENDAR