BEGIN:VCALENDAR
VERSION:2.0
PRODID:-//Solveda Company - ECPv6.2.9//NONSGML v1.0//EN
CALSCALE:GREGORIAN
METHOD:PUBLISH
X-WR-CALNAME:Solveda Company
X-ORIGINAL-URL:https://solveda.net
X-WR-CALDESC:Events for Solveda Company
REFRESH-INTERVAL;VALUE=DURATION:PT1H
X-Robots-Tag:noindex
X-PUBLISHED-TTL:PT1H
BEGIN:VTIMEZONE
TZID:Europe/Helsinki
BEGIN:DAYLIGHT
TZOFFSETFROM:+0200
TZOFFSETTO:+0300
TZNAME:EEST
DTSTART:20230326T010000
END:DAYLIGHT
BEGIN:STANDARD
TZOFFSETFROM:+0300
TZOFFSETTO:+0200
TZNAME:EET
DTSTART:20231029T010000
END:STANDARD
END:VTIMEZONE
BEGIN:VEVENT
DTSTART;TZID=Europe/Helsinki:20231023T080000
DTEND;TZID=Europe/Helsinki:20231026T170000
DTSTAMP:20260415T030817
CREATED:20250628T230647Z
LAST-MODIFIED:20250628T230647Z
UID:10000003-1698048000-1698339600@solveda.net
SUMMARY:Saudi Agricultural Expo
DESCRIPTION:Food\, Aquaculture\, Packaging\, and Agro-industry will be the region’s most significant B2B event in the agriculture sector\, showcasing leading technologies and solutions and cutting-edge engineering and innovations. This event will unite entrepreneurs\, industry professionals\, decision-makers\, and sellers to expand their businesses at the premier agriculture event in the center of the Middle East’s most prominent and fastest-growing market.
URL:https://solveda.net/event/saudi-agricultural-expo
LOCATION:Riyadh\, Saudi Arabia
GEO:23.885942;45.079162
END:VEVENT
END:VCALENDAR